BEGIN:VCALENDAR
VERSION:2.0
PRODID:-//FOP LODGE 5 - ECPv6.15.20//NONSGML v1.0//EN
CALSCALE:GREGORIAN
METHOD:PUBLISH
X-WR-CALNAME:FOP LODGE 5
X-ORIGINAL-URL:https://fop5.org
X-WR-CALDESC:Events for FOP LODGE 5
REFRESH-INTERVAL;VALUE=DURATION:PT1H
X-Robots-Tag:noindex
X-PUBLISHED-TTL:PT1H
BEGIN:VTIMEZONE
TZID:America/New_York
BEGIN:DAYLIGHT
TZOFFSETFROM:-0500
TZOFFSETTO:-0400
TZNAME:EDT
DTSTART:20240310T070000
END:DAYLIGHT
BEGIN:STANDARD
TZOFFSETFROM:-0400
TZOFFSETTO:-0500
TZNAME:EST
DTSTART:20241103T060000
END:STANDARD
BEGIN:DAYLIGHT
TZOFFSETFROM:-0500
TZOFFSETTO:-0400
TZNAME:EDT
DTSTART:20250309T070000
END:DAYLIGHT
BEGIN:STANDARD
TZOFFSETFROM:-0400
TZOFFSETTO:-0500
TZNAME:EST
DTSTART:20251102T060000
END:STANDARD
BEGIN:DAYLIGHT
TZOFFSETFROM:-0500
TZOFFSETTO:-0400
TZNAME:EDT
DTSTART:20260308T070000
END:DAYLIGHT
BEGIN:STANDARD
TZOFFSETFROM:-0400
TZOFFSETTO:-0500
TZNAME:EST
DTSTART:20261101T060000
END:STANDARD
END:VTIMEZONE
BEGIN:VEVENT
DTSTART;TZID=America/New_York:20250127T190000
DTEND;TZID=America/New_York:20250127T220000
DTSTAMP:20260422T033432
CREATED:20250109T171423Z
LAST-MODIFIED:20250109T171423Z
UID:10000322-1738004400-1738015200@fop5.org
SUMMARY:Flyers vs. Devils game for National Law Enforcement Officers Memorial Fund
DESCRIPTION:The Philadelphia Flyers have teamed up with the National Law Enforcement Officers Memorial Fund on Monday\, January 27\, 2025 as the Philadelphia Flyers take on the New Jersey Devils and will celebrate the important work of our community heroes with our annual First Responders Night. \nJoin us at the Wells Fargo Arena in Philadelphia as we celebrate and honor the commitment of law enforcement\, first responders and public safety personnel who keep our communities safe. This offer is available to all law enforcement personnel\, first responders\, public safety\, corrections\, friends\, family\, and the general public. \nSpecially priced ticket packages start at just $40.00 and include a First Responder Challenge Coin/Bottle Opener. A portion from each ticket will be donated to the National Law Enforcement Officers Memorial Fund. \nORDER ONLINE: Philadelphia Flyers First Responders Night – National Law Enforcement Officers Memorial Fund (nleomf.org) \nFor questions regarding the event\, group orders of 10 or more and to avoid service fees contact Philadelphia Flyers Representative Patrick Hall patrick_hall@comcastspectacor.com or by phone (215)-952-5356.
URL:https://fop5.org/evnt/flyers-vs-devils-game-for-national-law-enforcement-officers-memorial-fund/
LOCATION:Wells Fargo Center\, 3601 South Broad Street\, Philadelphia\, PA\, 19148\, United States
ATTACH;FMTTYPE=image/jpeg:https://fop5.org/wp-content/uploads/2025/01/Flyers-Night.jpg
END:VEVENT
END:VCALENDAR