BEGIN:VCALENDAR
VERSION:2.0
PRODID:-//FOP LODGE 5 - ECPv6.15.20//NONSGML v1.0//EN
CALSCALE:GREGORIAN
METHOD:PUBLISH
X-ORIGINAL-URL:https://fop5.org
X-WR-CALDESC:Events for FOP LODGE 5
REFRESH-INTERVAL;VALUE=DURATION:PT1H
X-Robots-Tag:noindex
X-PUBLISHED-TTL:PT1H
BEGIN:VTIMEZONE
TZID:America/New_York
BEGIN:DAYLIGHT
TZOFFSETFROM:-0500
TZOFFSETTO:-0400
TZNAME:EDT
DTSTART:20240310T070000
END:DAYLIGHT
BEGIN:STANDARD
TZOFFSETFROM:-0400
TZOFFSETTO:-0500
TZNAME:EST
DTSTART:20241103T060000
END:STANDARD
BEGIN:DAYLIGHT
TZOFFSETFROM:-0500
TZOFFSETTO:-0400
TZNAME:EDT
DTSTART:20250309T070000
END:DAYLIGHT
BEGIN:STANDARD
TZOFFSETFROM:-0400
TZOFFSETTO:-0500
TZNAME:EST
DTSTART:20251102T060000
END:STANDARD
BEGIN:DAYLIGHT
TZOFFSETFROM:-0500
TZOFFSETTO:-0400
TZNAME:EDT
DTSTART:20260308T070000
END:DAYLIGHT
BEGIN:STANDARD
TZOFFSETFROM:-0400
TZOFFSETTO:-0500
TZNAME:EST
DTSTART:20261101T060000
END:STANDARD
END:VTIMEZONE
BEGIN:VEVENT
DTSTART;VALUE=DATE:20250213
DTEND;VALUE=DATE:20250214
DTSTAMP:20260422T033623
CREATED:20250109T171020Z
LAST-MODIFIED:20250109T171020Z
UID:10000321-1739404800-1739491199@fop5.org
SUMMARY:Free Estate Planning Clinic for Pennsylvania Residents ONLY
DESCRIPTION:Wills for Heroes is a free and easy service for qualifying* military veterans\, first responders\, and their spouses or partners. During a one-hour appointment\, a volunteer legal team will prepare essential estate planning documents for you. You will leave with a signed and notarized Will\, Living Will\, Health Care Power of Attorney\, and Financial Power of Attorney. \nBeginning January 6\, 2025\, you can register for an appointment at: https://WFH-2-13-25.eventbrite.com
URL:https://fop5.org/evnt/free-estate-planning-clinic-for-pennsylvania-residents-only/
LOCATION:Chesnut Hill Hospital\, 8835 Germantown Avenue\, Philadelphia\, PA\, 19118\, United States
ATTACH;FMTTYPE=image/jpeg:https://fop5.org/wp-content/uploads/2025/01/Ballard-Spahr-Wills-for-Heroes-Foundation.jpg
END:VEVENT
END:VCALENDAR