BEGIN:VCALENDAR
VERSION:2.0
PRODID:-//FOP LODGE 5 - ECPv6.15.20//NONSGML v1.0//EN
CALSCALE:GREGORIAN
METHOD:PUBLISH
X-ORIGINAL-URL:https://fop5.org
X-WR-CALDESC:Events for FOP LODGE 5
REFRESH-INTERVAL;VALUE=DURATION:PT1H
X-Robots-Tag:noindex
X-PUBLISHED-TTL:PT1H
BEGIN:VTIMEZONE
TZID:America/New_York
BEGIN:DAYLIGHT
TZOFFSETFROM:-0500
TZOFFSETTO:-0400
TZNAME:EDT
DTSTART:20240310T070000
END:DAYLIGHT
BEGIN:STANDARD
TZOFFSETFROM:-0400
TZOFFSETTO:-0500
TZNAME:EST
DTSTART:20241103T060000
END:STANDARD
BEGIN:DAYLIGHT
TZOFFSETFROM:-0500
TZOFFSETTO:-0400
TZNAME:EDT
DTSTART:20250309T070000
END:DAYLIGHT
BEGIN:STANDARD
TZOFFSETFROM:-0400
TZOFFSETTO:-0500
TZNAME:EST
DTSTART:20251102T060000
END:STANDARD
BEGIN:DAYLIGHT
TZOFFSETFROM:-0500
TZOFFSETTO:-0400
TZNAME:EDT
DTSTART:20260308T070000
END:DAYLIGHT
BEGIN:STANDARD
TZOFFSETFROM:-0400
TZOFFSETTO:-0500
TZNAME:EST
DTSTART:20261101T060000
END:STANDARD
END:VTIMEZONE
BEGIN:VEVENT
DTSTART;TZID=America/New_York:20250605T180000
DTEND;TZID=America/New_York:20250605T220000
DTSTAMP:20260421T201442
CREATED:20250604T161015Z
LAST-MODIFIED:20250604T161059Z
UID:10000346-1749146400-1749160800@fop5.org
SUMMARY:Beef & Beer Benefit for Sgt. Ryan Mundrick – June 5
DESCRIPTION:Join us in celebrating the life and service of Sgt. Ryan Mundrick at a special Beef & Beer fundraiser on Thursday\, June 5\, 2025\, from 6–10 PM at Mummer’s Hall (2nd & Washington\, Philadelphia\, PA 19147). \n🎟️ Tickets: $50 – includes food\, beer\, and access to an evening of music and meaningful support \n💙 All proceeds benefit Sgt. Mundrick’s wife and children \nEnjoy an evening filled with: \n🎶 DJ entertainment \n🎁 Raffle baskets \n👕 Event t-shirts \n🎟️ 50/50 drawing \n📞 To purchase tickets\, contact:Ace Delgado at (215) 694-0066💵 Cash or Venmo: @RealAce-Delgado \nLet’s come together as a community to honor Sgt. Mundrick and support his family during this difficult time.
URL:https://fop5.org/evnt/beef-beer-benefit-for-sgt-ryan-mundrick-june-5/
LOCATION:Mummer’s Hall\, 2nd and Washington\, Philadelphia\, PA\, 19147\, United States
CATEGORIES:Event
ATTACH;FMTTYPE=image/jpeg:https://fop5.org/wp-content/uploads/2025/06/Mundrick-Flyer.jpg
END:VEVENT
END:VCALENDAR