BEGIN:VCALENDAR
VERSION:2.0
PRODID:-//FOP LODGE 5 - ECPv6.15.20//NONSGML v1.0//EN
CALSCALE:GREGORIAN
METHOD:PUBLISH
X-WR-CALNAME:FOP LODGE 5
X-ORIGINAL-URL:https://fop5.org
X-WR-CALDESC:Events for FOP LODGE 5
REFRESH-INTERVAL;VALUE=DURATION:PT1H
X-Robots-Tag:noindex
X-PUBLISHED-TTL:PT1H
BEGIN:VTIMEZONE
TZID:America/New_York
BEGIN:DAYLIGHT
TZOFFSETFROM:-0500
TZOFFSETTO:-0400
TZNAME:EDT
DTSTART:20250309T070000
END:DAYLIGHT
BEGIN:STANDARD
TZOFFSETFROM:-0400
TZOFFSETTO:-0500
TZNAME:EST
DTSTART:20251102T060000
END:STANDARD
BEGIN:DAYLIGHT
TZOFFSETFROM:-0500
TZOFFSETTO:-0400
TZNAME:EDT
DTSTART:20260308T070000
END:DAYLIGHT
BEGIN:STANDARD
TZOFFSETFROM:-0400
TZOFFSETTO:-0500
TZNAME:EST
DTSTART:20261101T060000
END:STANDARD
BEGIN:DAYLIGHT
TZOFFSETFROM:-0500
TZOFFSETTO:-0400
TZNAME:EDT
DTSTART:20270314T070000
END:DAYLIGHT
BEGIN:STANDARD
TZOFFSETFROM:-0400
TZOFFSETTO:-0500
TZNAME:EST
DTSTART:20271107T060000
END:STANDARD
END:VTIMEZONE
BEGIN:VEVENT
DTSTART;TZID=America/New_York:20260313T190000
DTEND;TZID=America/New_York:20260313T230000
DTSTAMP:20260419T091237
CREATED:20260209T184442Z
LAST-MODIFIED:20260212T173034Z
UID:10000900-1773428400-1773442800@fop5.org
SUMMARY:Philadelphia Emerald Society & P/O Daniel Boyle A.O.H. Division 88 St. Patrick's Day Celebration
DESCRIPTION:
URL:https://fop5.org/evnt/philadelphia-emerald-society-p-o-daniel-boyle-a-o-h-division-88-st-patricks-day-celebration/
LOCATION:FOP Lodge 5\, 11630 Caroline Rd\, Philadelphia\, PA\, United States
CATEGORIES:Event
ATTACH;FMTTYPE=image/png:https://fop5.org/wp-content/uploads/2026/02/Emerald-Society-Flyer-2026.png
END:VEVENT
END:VCALENDAR