BEGIN:VCALENDAR
VERSION:2.0
PRODID:-//FOP LODGE 5 - ECPv6.15.20//NONSGML v1.0//EN
CALSCALE:GREGORIAN
METHOD:PUBLISH
X-ORIGINAL-URL:https://fop5.org
X-WR-CALDESC:Events for FOP LODGE 5
REFRESH-INTERVAL;VALUE=DURATION:PT1H
X-Robots-Tag:noindex
X-PUBLISHED-TTL:PT1H
BEGIN:VTIMEZONE
TZID:America/New_York
BEGIN:DAYLIGHT
TZOFFSETFROM:-0500
TZOFFSETTO:-0400
TZNAME:EDT
DTSTART:20240310T070000
END:DAYLIGHT
BEGIN:STANDARD
TZOFFSETFROM:-0400
TZOFFSETTO:-0500
TZNAME:EST
DTSTART:20241103T060000
END:STANDARD
BEGIN:DAYLIGHT
TZOFFSETFROM:-0500
TZOFFSETTO:-0400
TZNAME:EDT
DTSTART:20250309T070000
END:DAYLIGHT
BEGIN:STANDARD
TZOFFSETFROM:-0400
TZOFFSETTO:-0500
TZNAME:EST
DTSTART:20251102T060000
END:STANDARD
BEGIN:DAYLIGHT
TZOFFSETFROM:-0500
TZOFFSETTO:-0400
TZNAME:EDT
DTSTART:20260308T070000
END:DAYLIGHT
BEGIN:STANDARD
TZOFFSETFROM:-0400
TZOFFSETTO:-0500
TZNAME:EST
DTSTART:20261101T060000
END:STANDARD
END:VTIMEZONE
BEGIN:VEVENT
DTSTART;TZID=America/New_York:20250304T130000
DTEND;TZID=America/New_York:20250304T170000
DTSTAMP:20260421T235424
CREATED:20250105T122114Z
LAST-MODIFIED:20250106T200107Z
UID:10000005-1741093200-1741107600@fop5.org
SUMMARY:Social Night
DESCRIPTION:Held on the first Tuesday of month at 6:00 pm
URL:https://fop5.org/evnt/social-night/2025-03-04/
LOCATION:FOP Lodge 5\, 11630 Caroline Rd\, Philadelphia\, PA\, United States
END:VEVENT
BEGIN:VEVENT
DTSTART;TZID=America/New_York:20250311T103000
DTEND;TZID=America/New_York:20250311T113000
DTSTAMP:20260421T235424
CREATED:20250310T152930Z
LAST-MODIFIED:20250310T152930Z
UID:10000325-1741689000-1741692600@fop5.org
SUMMARY:Robert Wilson III 10th Memorial
DESCRIPTION:Wednesday\, March 5th\, marks the 10th Anniversary of our brother’s homecoming. We will honor him on Tuesday\, March 11th. \n10:30 a.m. Opening Prayer\n10:40 a.m. Remarks and Reflections\n11:00 a.m. Ceremonial Ringing of Bell\n11:10 a.m. Closing Prayer
URL:https://fop5.org/evnt/robert-wilson-iii-10th-memorial/
LOCATION:29th Street and Ridge Avenue\, 29th St. and Ridge Avenue\, Philadelphia\, PA\, United States
ATTACH;FMTTYPE=image/jpeg:https://fop5.org/wp-content/uploads/2025/03/481695701_1050143543808077_6772937192949904617_n.jpg
END:VEVENT
BEGIN:VEVENT
DTSTART;TZID=America/New_York:20250311T180000
DTEND;TZID=America/New_York:20250311T200000
DTSTAMP:20260421T235424
CREATED:20250105T122428Z
LAST-MODIFIED:20251106T172335Z
UID:10000441-1741716000-1741723200@fop5.org
SUMMARY:General Membership FOP Meeting
DESCRIPTION:Held on the second Tuesday of month at 6:00 pm
URL:https://fop5.org/evnt/general-membership-fop-meeting/2025-03-11/
LOCATION:FOP Lodge 5\, 11630 Caroline Rd\, Philadelphia\, PA\, United States
END:VEVENT
BEGIN:VEVENT
DTSTART;TZID=America/New_York:20250313T120000
DTEND;TZID=America/New_York:20250313T130000
DTSTAMP:20260421T235424
CREATED:20250310T153545Z
LAST-MODIFIED:20250310T153545Z
UID:10000326-1741867200-1741870800@fop5.org
SUMMARY:Sergeant James O’Connor IV 5 Year Anniversary
DESCRIPTION:The O’Connor Family\, along with members of SWAT\, invite you to join them for a service in memory of Sergeant James O’Connor IV. \nPlease gather with us on Thursday\, March 13th\, at noon at SWAT Headquarters\, 8501 State Road\, Philadelphia\, PA 19136. \nThe service will honor the five year anniversary of the loss of Sergeant O’Connor.
URL:https://fop5.org/evnt/sergeant-james-oconnor-iv-5-year-anniversary/
LOCATION:SWAT Headquarters\, 8501 State Road\, Philadelphia\, PA\, United States
ATTACH;FMTTYPE=image/png:https://fop5.org/wp-content/uploads/2025/03/Please-join-The-OConnor-Family-and-members-of-SWAT-for-a-service-In-memory-of-Sergeant-James-OConnor-IV.-Thursday-March-13th-at-1200pm.-SWAT-Headquarters-8501-State-Road-Philadelphia-PA-19136.png
END:VEVENT
BEGIN:VEVENT
DTSTART;TZID=America/New_York:20250319T190000
DTEND;TZID=America/New_York:20250319T220000
DTSTAMP:20260421T235424
CREATED:20250106T211447Z
LAST-MODIFIED:20250110T142336Z
UID:10000323-1742410800-1742421600@fop5.org
SUMMARY:Monthly Mass Schedule For Michael The Archangel Ministry Program
DESCRIPTION:Philadelphia Lodge #5 Fraternal Order of Police active and retired\, as well as family members\, are welcome to join us each month to remember and pray for our fallen heroes who died in the line of duty. \nMass will be celebrated at 7pm. \nLOCATION\nSt. Matthew Church\n3000 Cottman Ave Phila\, PA 19149\n(Lower Church accessed by using the rear parking lot entrance) While this is a Catholic Mass\, all members of the PPD family\, friends\, and community are welcome. \nFor Further Information\, Please Contact:\nSgt. Michael Cerruti – 215-802-1972
URL:https://fop5.org/evnt/monthly-mass-schedule-for-michael-the-archangel-ministry-program/2025-03-19/
LOCATION:St. Matthew Church\, 3000 Cottman Ave\, Philadelphia\, PA\, 19149\, United States
ATTACH;FMTTYPE=image/jpeg:https://fop5.org/wp-content/uploads/2025/01/Image-4.jpg
END:VEVENT
END:VCALENDAR