BEGIN:VCALENDAR
VERSION:2.0
PRODID:-//FOP LODGE 5 - ECPv6.15.20//NONSGML v1.0//EN
CALSCALE:GREGORIAN
METHOD:PUBLISH
X-WR-CALNAME:FOP LODGE 5
X-ORIGINAL-URL:https://fop5.org
X-WR-CALDESC:Events for FOP LODGE 5
REFRESH-INTERVAL;VALUE=DURATION:PT1H
X-Robots-Tag:noindex
X-PUBLISHED-TTL:PT1H
BEGIN:VTIMEZONE
TZID:America/New_York
BEGIN:DAYLIGHT
TZOFFSETFROM:-0500
TZOFFSETTO:-0400
TZNAME:EDT
DTSTART:20240310T070000
END:DAYLIGHT
BEGIN:STANDARD
TZOFFSETFROM:-0400
TZOFFSETTO:-0500
TZNAME:EST
DTSTART:20241103T060000
END:STANDARD
BEGIN:DAYLIGHT
TZOFFSETFROM:-0500
TZOFFSETTO:-0400
TZNAME:EDT
DTSTART:20250309T070000
END:DAYLIGHT
BEGIN:STANDARD
TZOFFSETFROM:-0400
TZOFFSETTO:-0500
TZNAME:EST
DTSTART:20251102T060000
END:STANDARD
BEGIN:DAYLIGHT
TZOFFSETFROM:-0500
TZOFFSETTO:-0400
TZNAME:EDT
DTSTART:20260308T070000
END:DAYLIGHT
BEGIN:STANDARD
TZOFFSETFROM:-0400
TZOFFSETTO:-0500
TZNAME:EST
DTSTART:20261101T060000
END:STANDARD
END:VTIMEZONE
BEGIN:VEVENT
DTSTART;TZID=America/New_York:20250401T140000
DTEND;TZID=America/New_York:20250401T180000
DTSTAMP:20260421T220347
CREATED:20250105T122114Z
LAST-MODIFIED:20250106T200107Z
UID:10000006-1743516000-1743530400@fop5.org
SUMMARY:Social Night
DESCRIPTION:Held on the first Tuesday of month at 6:00 pm
URL:https://fop5.org/evnt/social-night/2025-04-01/
LOCATION:FOP Lodge 5\, 11630 Caroline Rd\, Philadelphia\, PA\, United States
END:VEVENT
BEGIN:VEVENT
DTSTART;TZID=America/New_York:20250406T140000
DTEND;TZID=America/New_York:20250406T190000
DTSTAMP:20260421T220347
CREATED:20250310T155348Z
LAST-MODIFIED:20250626T111020Z
UID:10000327-1743948000-1743966000@fop5.org
SUMMARY:Join us for a Food Truck Festival on Sunday April 6\, 2025
DESCRIPTION:
URL:https://fop5.org/evnt/join-us-for-a-food-truck-festival-on-sunday-april-6-2025/
LOCATION:FOP Lodge 5\, 11630 Caroline Rd\, Philadelphia\, PA\, United States
ATTACH;FMTTYPE=image/jpeg:https://fop5.org/wp-content/uploads/2025/03/474856668_1026117176210714_4593584352219656456_n.jpg
END:VEVENT
BEGIN:VEVENT
DTSTART;TZID=America/New_York:20250408T180000
DTEND;TZID=America/New_York:20250408T200000
DTSTAMP:20260421T220347
CREATED:20250105T122428Z
LAST-MODIFIED:20251106T172335Z
UID:10000442-1744135200-1744142400@fop5.org
SUMMARY:General Membership FOP Meeting
DESCRIPTION:Held on the second Tuesday of month at 6:00 pm
URL:https://fop5.org/evnt/general-membership-fop-meeting/2025-04-08/
LOCATION:FOP Lodge 5\, 11630 Caroline Rd\, Philadelphia\, PA\, United States
END:VEVENT
BEGIN:VEVENT
DTSTART;TZID=America/New_York:20250416T190000
DTEND;TZID=America/New_York:20250416T220000
DTSTAMP:20260421T220347
CREATED:20250106T211447Z
LAST-MODIFIED:20250110T142336Z
UID:10000312-1744830000-1744840800@fop5.org
SUMMARY:Monthly Mass Schedule For Michael The Archangel Ministry Program
DESCRIPTION:Philadelphia Lodge #5 Fraternal Order of Police active and retired\, as well as family members\, are welcome to join us each month to remember and pray for our fallen heroes who died in the line of duty. \nMass will be celebrated at 7pm. \nLOCATION\nSt. Matthew Church\n3000 Cottman Ave Phila\, PA 19149\n(Lower Church accessed by using the rear parking lot entrance) While this is a Catholic Mass\, all members of the PPD family\, friends\, and community are welcome. \nFor Further Information\, Please Contact:\nSgt. Michael Cerruti – 215-802-1972
URL:https://fop5.org/evnt/monthly-mass-schedule-for-michael-the-archangel-ministry-program/2025-04-16/
LOCATION:St. Matthew Church\, 3000 Cottman Ave\, Philadelphia\, PA\, 19149\, United States
ATTACH;FMTTYPE=image/jpeg:https://fop5.org/wp-content/uploads/2025/01/Image-4.jpg
END:VEVENT
END:VCALENDAR