BEGIN:VCALENDAR
VERSION:2.0
PRODID:-//FOP LODGE 5 - ECPv6.15.20//NONSGML v1.0//EN
CALSCALE:GREGORIAN
METHOD:PUBLISH
X-WR-CALNAME:FOP LODGE 5
X-ORIGINAL-URL:https://fop5.org
X-WR-CALDESC:Events for FOP LODGE 5
REFRESH-INTERVAL;VALUE=DURATION:PT1H
X-Robots-Tag:noindex
X-PUBLISHED-TTL:PT1H
BEGIN:VTIMEZONE
TZID:America/New_York
BEGIN:DAYLIGHT
TZOFFSETFROM:-0500
TZOFFSETTO:-0400
TZNAME:EDT
DTSTART:20240310T070000
END:DAYLIGHT
BEGIN:STANDARD
TZOFFSETFROM:-0400
TZOFFSETTO:-0500
TZNAME:EST
DTSTART:20241103T060000
END:STANDARD
BEGIN:DAYLIGHT
TZOFFSETFROM:-0500
TZOFFSETTO:-0400
TZNAME:EDT
DTSTART:20250309T070000
END:DAYLIGHT
BEGIN:STANDARD
TZOFFSETFROM:-0400
TZOFFSETTO:-0500
TZNAME:EST
DTSTART:20251102T060000
END:STANDARD
BEGIN:DAYLIGHT
TZOFFSETFROM:-0500
TZOFFSETTO:-0400
TZNAME:EDT
DTSTART:20260308T070000
END:DAYLIGHT
BEGIN:STANDARD
TZOFFSETFROM:-0400
TZOFFSETTO:-0500
TZNAME:EST
DTSTART:20261101T060000
END:STANDARD
END:VTIMEZONE
BEGIN:VEVENT
DTSTART;TZID=America/New_York:20250503T093000
DTEND;TZID=America/New_York:20250503T170000
DTSTAMP:20260421T201436
CREATED:20250429T153942Z
LAST-MODIFIED:20250429T153942Z
UID:10000334-1746264600-1746291600@fop5.org
SUMMARY:Officer Jaime Roman #6064 Memorial Ride
DESCRIPTION:Join us in honoring the memory of Officer Jaime Roman #6064 at the Memorial Ride hosted by Bullets LE MC\, Philadelphia Chapter on Saturday\, May 3\, 2025. \n🏍️ Ride Details: \n\n\nMeeting Location: Aramingo Avenue & Westmoreland Street (R0980) \n\nStart Gathering: 9:30 AM\n\nKickstands Up: 11:00 AM \n\n\nThe ride will pass by the 25th District and F & Tioga Streets\, then return to FOP Lodge 5\, located at 11630 Caroline Road\, Philadelphia\, PA 19154. \n\n\n🎶 After the ride\, join us back at the FOP for DJ music\, a 50/50 raffle\, and an afternoon of remembrance and camaraderie. \nImportant Note: \n\n\nMotorcycles only are permitted for the ride itself. \n\n\nEveryone is welcome back at the FOP afterward to celebrate Officer Roman’s life and legacy. \n\n\n💵 Donations: \n\n\nCash donations collected during the ride will be given directly to Officer Roman’s family. \n\n\nFor check donations or more information\, please contact Philip Scratchard at 267-340-9439. \n\n\nLet’s ride together to honor Officer Roman and show support for his family.
URL:https://fop5.org/evnt/officer-jaime-roman-6064-memorial-ride/
LOCATION:PA
ATTACH;FMTTYPE=image/jpeg:https://fop5.org/wp-content/uploads/2025/04/IMG_0450.jpeg
END:VEVENT
BEGIN:VEVENT
DTSTART;TZID=America/New_York:20250505T140000
DTEND;TZID=America/New_York:20250505T230000
DTSTAMP:20260421T201436
CREATED:20250310T160258Z
LAST-MODIFIED:20250310T160258Z
UID:10000330-1746453600-1746486000@fop5.org
SUMMARY:FOP Harrisburg Trip
DESCRIPTION:Departs from Philadelphia Fraternal Order of Police\, Lodge #5 at 2:00pm \nProgram Begins at 5:00pm.
URL:https://fop5.org/evnt/fop-harrisburg-trip/
LOCATION:PA
END:VEVENT
BEGIN:VEVENT
DTSTART;TZID=America/New_York:20250506T140000
DTEND;TZID=America/New_York:20250506T180000
DTSTAMP:20260421T201436
CREATED:20250105T122114Z
LAST-MODIFIED:20250106T200107Z
UID:10000007-1746540000-1746554400@fop5.org
SUMMARY:Social Night
DESCRIPTION:Held on the first Tuesday of month at 6:00 pm
URL:https://fop5.org/evnt/social-night/2025-05-06/
LOCATION:FOP Lodge 5\, 11630 Caroline Rd\, Philadelphia\, PA\, United States
END:VEVENT
BEGIN:VEVENT
DTSTART;TZID=America/New_York:20250507T120000
DTEND;TZID=America/New_York:20250507T133000
DTSTAMP:20260421T201436
CREATED:20250310T160011Z
LAST-MODIFIED:20250626T111124Z
UID:10000329-1746619200-1746624600@fop5.org
SUMMARY:Living Flame Memorial
DESCRIPTION:
URL:https://fop5.org/evnt/living-flame-memorial/
LOCATION:Franklin Square Park\, 200 N 6th St\, Philadelphia\, PA\, 19106\, United States
END:VEVENT
BEGIN:VEVENT
DTSTART;VALUE=DATE:20250511
DTEND;VALUE=DATE:20250518
DTSTAMP:20260421T201436
CREATED:20250310T155755Z
LAST-MODIFIED:20250626T111158Z
UID:10000328-1746921600-1747526399@fop5.org
SUMMARY:National Police Week
DESCRIPTION:
URL:https://fop5.org/evnt/national-police-week/
LOCATION:PA
ATTACH;FMTTYPE=image/jpeg:https://fop5.org/wp-content/uploads/2025/03/licensed-image.jpeg
END:VEVENT
BEGIN:VEVENT
DTSTART;TZID=America/New_York:20250513T180000
DTEND;TZID=America/New_York:20250513T200000
DTSTAMP:20260421T201436
CREATED:20250105T122428Z
LAST-MODIFIED:20251106T172335Z
UID:10000443-1747159200-1747166400@fop5.org
SUMMARY:General Membership FOP Meeting
DESCRIPTION:Held on the second Tuesday of month at 6:00 pm
URL:https://fop5.org/evnt/general-membership-fop-meeting/2025-05-13/
LOCATION:FOP Lodge 5\, 11630 Caroline Rd\, Philadelphia\, PA\, United States
END:VEVENT
BEGIN:VEVENT
DTSTART;TZID=America/New_York:20250515T060000
DTEND;TZID=America/New_York:20250515T190000
DTSTAMP:20260421T201436
CREATED:20250310T160402Z
LAST-MODIFIED:20250310T160402Z
UID:10000331-1747288800-1747335600@fop5.org
SUMMARY:Washington DC Trip
DESCRIPTION:Departs from Philadelphia Fraternal Order of Police\, Lodge #5 at 6:00am and returns to the Lodge 5 around 7:00pm.
URL:https://fop5.org/evnt/washington-dc-trip/
LOCATION:PA
END:VEVENT
BEGIN:VEVENT
DTSTART;TZID=America/New_York:20250515T210000
DTEND;TZID=America/New_York:20250516T010000
DTSTAMP:20260421T201436
CREATED:20250429T190806Z
LAST-MODIFIED:20250507T170009Z
UID:10000339-1747342800-1747357200@fop5.org
SUMMARY:The Guardian Civic League Presents: Motown Night
DESCRIPTION:Join us for a night of music\, fun\, and fellowship at Motown Night\, presented by the Guardian Civic League on Thursday\, May 15\, 2025\, at FOP Lodge 5 – 11630 Caroline Road\, Philadelphia\, PA 19154. \n🎶 Music by DJ Ill-Soul🍔 Food & Drink Specials available for purchase at the 7C Lounge💵 Cover Charge: $15🕘 Event Starts at 9:00 PM \nAll FOP members are welcome! \n📞 For more information\, contact: (215) 763-0490 \nDon’t miss this great night out—bring your crew and enjoy the vibe!
URL:https://fop5.org/evnt/the-guardian-civic-league-presents-moon-men-night/
LOCATION:FOP Lodge 5\, 11630 Caroline Rd\, Philadelphia\, PA\, United States
CATEGORIES:Event
ATTACH;FMTTYPE=image/jpeg:https://fop5.org/wp-content/uploads/2025/04/motown.jpg
END:VEVENT
BEGIN:VEVENT
DTSTART;TZID=America/New_York:20250517T150000
DTEND;TZID=America/New_York:20250517T190000
DTSTAMP:20260421T201436
CREATED:20250416T204931Z
LAST-MODIFIED:20250625T070501Z
UID:10000332-1747494000-1747508400@fop5.org
SUMMARY:28th Annual Police Survivors' Benefit – May 17
DESCRIPTION:Join us for a powerful afternoon of music\, community\, and support at the 28th Annual Police Survivors’ Benefit on Saturday\, May 17th from 3 to 7 PM\, held at FOP Lodge #5 – 11630 Caroline Road\, Philadelphia. \nThis year’s benefit features an incredible lineup of entertainment\, including DJ Manny Frecks\, PJ the DJ\, and a live performance by Rustic Revival. Come enjoy great music\, food\, drinks\, and camaraderie—all in support of a meaningful cause. \n🎟️ Tickets are $45 and available for purchase at the FOP Front Desk\, Monday through Friday\, 8 AM to 4 PM. \nAll proceeds directly benefit the FOP Lodge #5 Police Survivors’ Fund\, which supports the families of officers who made the ultimate sacrifice. \nRideshare is strongly recommended. Please consider using Uber or Lyft for a safe and easy trip. \nFor more info\, visit fop5.org. Let’s come together to honor and support our heroes and their families.
URL:https://fop5.org/evnt/28th-annual-police-survivors-benefit-may-17/
LOCATION:FOP Lodge 5\, 11630 Caroline Rd\, Philadelphia\, PA\, United States
ATTACH;FMTTYPE=image/jpeg:https://fop5.org/wp-content/uploads/2025/04/Police-Survivors-Benefit.jpg
END:VEVENT
BEGIN:VEVENT
DTSTART;TZID=America/New_York:20250521T190000
DTEND;TZID=America/New_York:20250521T220000
DTSTAMP:20260421T201436
CREATED:20250106T211447Z
LAST-MODIFIED:20250110T142336Z
UID:10000313-1747854000-1747864800@fop5.org
SUMMARY:Monthly Mass Schedule For Michael The Archangel Ministry Program
DESCRIPTION:Philadelphia Lodge #5 Fraternal Order of Police active and retired\, as well as family members\, are welcome to join us each month to remember and pray for our fallen heroes who died in the line of duty. \nMass will be celebrated at 7pm. \nLOCATION\nSt. Matthew Church\n3000 Cottman Ave Phila\, PA 19149\n(Lower Church accessed by using the rear parking lot entrance) While this is a Catholic Mass\, all members of the PPD family\, friends\, and community are welcome. \nFor Further Information\, Please Contact:\nSgt. Michael Cerruti – 215-802-1972
URL:https://fop5.org/evnt/monthly-mass-schedule-for-michael-the-archangel-ministry-program/2025-05-21/
LOCATION:St. Matthew Church\, 3000 Cottman Ave\, Philadelphia\, PA\, 19149\, United States
ATTACH;FMTTYPE=image/jpeg:https://fop5.org/wp-content/uploads/2025/01/Image-4.jpg
END:VEVENT
BEGIN:VEVENT
DTSTART;TZID=America/New_York:20250523T190000
DTEND;TZID=America/New_York:20250523T220000
DTSTAMP:20260421T201436
CREATED:20250416T205747Z
LAST-MODIFIED:20250625T080627Z
UID:10000333-1748026800-1748037600@fop5.org
SUMMARY:The FOP Presents: Another Special Needs Prom – "Under the Big Top"
DESCRIPTION:🎪 Step right up for a magical night at the circus! The FOP proudly presents the return of our beloved Special Needs Prom\, happening Friday\, May 23\, 2025\, from 7–10 PM at FOP Lodge 5\, 11630 Caroline Road\, Philadelphia\, PA 19154. \nThis year’s theme—“Under the Big Top”—promises an unforgettable evening filled with fun\, friendship\, and celebration. Whether you’re dancing\, dressing up\, or just soaking in the excitement\, this event is open to guests of all ages. \n🎟️ Tickets: \n\n\n$75 per couple \n\n\n$45 individual ticket \n\n\n$30 aide/date \n\n\n🎉 Come one\, come all! Enjoy a night of music\, dancing\, and circus-themed surprises in a welcoming and inclusive environment. \nRegistration is required—don’t wait to secure your spot! \nRegister Here: https://docs.google.com/forms/d/e/1FAIpQLSdBNN2XlUPviQ2Mcex9J8KOrnN4FqBPJPL7lo1epGD2jzPiQw/viewform \nLet’s make this night unforgettable for everyone under the big top. 🎈🎶💃
URL:https://fop5.org/evnt/the-fop-presents-another-special-needs-prom-under-the-big-top/
LOCATION:FOP Lodge 5\, 11630 Caroline Rd\, Philadelphia\, PA\, United States
ATTACH;FMTTYPE=image/jpeg:https://fop5.org/wp-content/uploads/2025/04/IMG_7537.jpeg
END:VEVENT
END:VCALENDAR