BEGIN:VCALENDAR
VERSION:2.0
PRODID:-//FOP LODGE 5 - ECPv6.15.20//NONSGML v1.0//EN
CALSCALE:GREGORIAN
METHOD:PUBLISH
X-WR-CALNAME:FOP LODGE 5
X-ORIGINAL-URL:https://fop5.org
X-WR-CALDESC:Events for FOP LODGE 5
REFRESH-INTERVAL;VALUE=DURATION:PT1H
X-Robots-Tag:noindex
X-PUBLISHED-TTL:PT1H
BEGIN:VTIMEZONE
TZID:America/New_York
BEGIN:DAYLIGHT
TZOFFSETFROM:-0500
TZOFFSETTO:-0400
TZNAME:EDT
DTSTART:20240310T070000
END:DAYLIGHT
BEGIN:STANDARD
TZOFFSETFROM:-0400
TZOFFSETTO:-0500
TZNAME:EST
DTSTART:20241103T060000
END:STANDARD
BEGIN:DAYLIGHT
TZOFFSETFROM:-0500
TZOFFSETTO:-0400
TZNAME:EDT
DTSTART:20250309T070000
END:DAYLIGHT
BEGIN:STANDARD
TZOFFSETFROM:-0400
TZOFFSETTO:-0500
TZNAME:EST
DTSTART:20251102T060000
END:STANDARD
BEGIN:DAYLIGHT
TZOFFSETFROM:-0500
TZOFFSETTO:-0400
TZNAME:EDT
DTSTART:20260308T070000
END:DAYLIGHT
BEGIN:STANDARD
TZOFFSETFROM:-0400
TZOFFSETTO:-0500
TZNAME:EST
DTSTART:20261101T060000
END:STANDARD
END:VTIMEZONE
BEGIN:VEVENT
DTSTART;TZID=America/New_York:20250708T180000
DTEND;TZID=America/New_York:20250708T200000
DTSTAMP:20260421T163837
CREATED:20250105T122428Z
LAST-MODIFIED:20251106T172335Z
UID:10000445-1751997600-1752004800@fop5.org
SUMMARY:General Membership FOP Meeting
DESCRIPTION:Held on the second Tuesday of month at 6:00 pm
URL:https://fop5.org/evnt/general-membership-fop-meeting/2025-07-08/
LOCATION:FOP Lodge 5\, 11630 Caroline Rd\, Philadelphia\, PA\, United States
END:VEVENT
BEGIN:VEVENT
DTSTART;VALUE=DATE:20250711
DTEND;VALUE=DATE:20250712
DTSTAMP:20260421T163837
CREATED:20250707T164705Z
LAST-MODIFIED:20250709T150304Z
UID:10000361-1752192000-1752278399@fop5.org
SUMMARY:Chickie’s & Pete’s Crabfries Day
DESCRIPTION:On Friday\, July 11\, 2025\, FOP supporters\, food lovers\, and friends will come together to celebrate National Crabfries® Day in delicious style! \nEnjoy $1 Crabfries® and $5 Personal Pitchers at participating full-service locations—all while supporting a great cause. Proceeds from this flavorful event directly benefit the FOP Survivors Fund\, which provides vital support to the families of fallen officers.
URL:https://fop5.org/evnt/chickies-petes-crabfries-day-july-11th/
LOCATION:PA
CATEGORIES:Event
ATTACH;FMTTYPE=image/jpeg:https://fop5.org/wp-content/uploads/2025/07/CFD-2025-Flyer.jpg
END:VEVENT
BEGIN:VEVENT
DTSTART;TZID=America/New_York:20250716T190000
DTEND;TZID=America/New_York:20250716T220000
DTSTAMP:20260421T163837
CREATED:20250106T211447Z
LAST-MODIFIED:20250110T142336Z
UID:10000315-1752692400-1752703200@fop5.org
SUMMARY:Monthly Mass Schedule For Michael The Archangel Ministry Program
DESCRIPTION:Philadelphia Lodge #5 Fraternal Order of Police active and retired\, as well as family members\, are welcome to join us each month to remember and pray for our fallen heroes who died in the line of duty. \nMass will be celebrated at 7pm. \nLOCATION\nSt. Matthew Church\n3000 Cottman Ave Phila\, PA 19149\n(Lower Church accessed by using the rear parking lot entrance) While this is a Catholic Mass\, all members of the PPD family\, friends\, and community are welcome. \nFor Further Information\, Please Contact:\nSgt. Michael Cerruti – 215-802-1972
URL:https://fop5.org/evnt/monthly-mass-schedule-for-michael-the-archangel-ministry-program/2025-07-16/
LOCATION:St. Matthew Church\, 3000 Cottman Ave\, Philadelphia\, PA\, 19149\, United States
ATTACH;FMTTYPE=image/jpeg:https://fop5.org/wp-content/uploads/2025/01/Image-4.jpg
END:VEVENT
BEGIN:VEVENT
DTSTART;TZID=America/New_York:20250720T080000
DTEND;TZID=America/New_York:20250720T170000
DTSTAMP:20260421T163837
CREATED:20250429T185947Z
LAST-MODIFIED:20250429T185947Z
UID:10000335-1752998400-1753030800@fop5.org
SUMMARY:38th Annual Ben to the Shore Bike Tour – Join Team FOP 5!
DESCRIPTION:🚴‍♂️ Date: Sunday\, July 20\, 2025Be part of the tradition and ride in the 38th Annual Ben to the Shore Bike Tour with Team FOP 5! \n🔗 Register at: www.ben2shore.orgBe sure to select Team FOP 5 when signing up. \n📩 Questions? Contact: \n\n\nSteve Weiler (Team Captain): sweiler@fop5.org | 215-629-3611 \n\n\nSam Hawthorn: shawthorn@fop5.org | 215-629-3602 \n\n\nLet’s ride together for a great cause!
URL:https://fop5.org/evnt/38th-annual-ben-to-the-shore-bike-tour-join-team-fop-5/
LOCATION:PA
CATEGORIES:Event
ATTACH;FMTTYPE=image/jpeg:https://fop5.org/wp-content/uploads/2025/04/ben-to-shore.jpg
END:VEVENT
BEGIN:VEVENT
DTSTART;TZID=America/New_York:20250722T090000
DTEND;TZID=America/New_York:20250722T160000
DTSTAMP:20260421T163837
CREATED:20250618T175337Z
LAST-MODIFIED:20250618T180751Z
UID:10000348-1753174800-1753200000@fop5.org
SUMMARY:Law Enforcement Traffic Fatalities: A Solutions-Based Forum
DESCRIPTION:Join the National Law Enforcement Memorial Fund for a full- day forum of solutions and recommendations to enhance vehicle and roadside safety for our officers. Hear from experts in the field\, experience emerging technologies\, and participate in an engaging day of learning.\n\n\n\nWho Should Attend:\nChiefs\, sheriffs\, training directors\, public safety advocates\, federal\, state and local leaders\, risk managers\, and occupational safety professionals.\n\n\nIt is imperative for every agency leader to better train and better protect their officers while they operate in the one environment where every officer works\, traffic.\n\n\nFeatured speakers include high profile law enforcement leaders and subject matter experts. Thanks to the sponsors\, including Whelen\, the event is FREE of charge with special opportunities if attending in person at the national museum (444 E. Street\, Washington\, DC 20001).\n\nThere is also a virtual option for those who are unable to attend in person.\n\n\nRegister Here:\nLaw Enforcement Traffic Fatalities: A Solutions-Based Forum – National Law Enforcement Officers Memorial Fund
URL:https://fop5.org/evnt/law-enforcement-traffic-fatalities-a-solutions-based-forum/
LOCATION:PA
ATTACH;FMTTYPE=image/png:https://fop5.org/wp-content/uploads/2025/06/Law_Enforcement_Traffic_Fatalities_Forum_2025_graphics_e.png
END:VEVENT
END:VCALENDAR