BEGIN:VCALENDAR
VERSION:2.0
PRODID:-//FOP LODGE 5 - ECPv6.15.20//NONSGML v1.0//EN
CALSCALE:GREGORIAN
METHOD:PUBLISH
X-WR-CALNAME:FOP LODGE 5
X-ORIGINAL-URL:https://fop5.org
X-WR-CALDESC:Events for FOP LODGE 5
REFRESH-INTERVAL;VALUE=DURATION:PT1H
X-Robots-Tag:noindex
X-PUBLISHED-TTL:PT1H
BEGIN:VTIMEZONE
TZID:America/New_York
BEGIN:DAYLIGHT
TZOFFSETFROM:-0500
TZOFFSETTO:-0400
TZNAME:EDT
DTSTART:20240310T070000
END:DAYLIGHT
BEGIN:STANDARD
TZOFFSETFROM:-0400
TZOFFSETTO:-0500
TZNAME:EST
DTSTART:20241103T060000
END:STANDARD
BEGIN:DAYLIGHT
TZOFFSETFROM:-0500
TZOFFSETTO:-0400
TZNAME:EDT
DTSTART:20250309T070000
END:DAYLIGHT
BEGIN:STANDARD
TZOFFSETFROM:-0400
TZOFFSETTO:-0500
TZNAME:EST
DTSTART:20251102T060000
END:STANDARD
BEGIN:DAYLIGHT
TZOFFSETFROM:-0500
TZOFFSETTO:-0400
TZNAME:EDT
DTSTART:20260308T070000
END:DAYLIGHT
BEGIN:STANDARD
TZOFFSETFROM:-0400
TZOFFSETTO:-0500
TZNAME:EST
DTSTART:20261101T060000
END:STANDARD
END:VTIMEZONE
BEGIN:VEVENT
DTSTART;TZID=America/New_York:20250812T180000
DTEND;TZID=America/New_York:20250812T200000
DTSTAMP:20260421T145519
CREATED:20250105T122428Z
LAST-MODIFIED:20251106T172335Z
UID:10000446-1755021600-1755028800@fop5.org
SUMMARY:General Membership FOP Meeting
DESCRIPTION:Held on the second Tuesday of month at 6:00 pm
URL:https://fop5.org/evnt/general-membership-fop-meeting/2025-08-12/
LOCATION:FOP Lodge 5\, 11630 Caroline Rd\, Philadelphia\, PA\, United States
END:VEVENT
BEGIN:VEVENT
DTSTART;TZID=America/New_York:20250820T190000
DTEND;TZID=America/New_York:20250820T220000
DTSTAMP:20260421T145519
CREATED:20250106T211447Z
LAST-MODIFIED:20250110T142336Z
UID:10000316-1755716400-1755727200@fop5.org
SUMMARY:Monthly Mass Schedule For Michael The Archangel Ministry Program
DESCRIPTION:Philadelphia Lodge #5 Fraternal Order of Police active and retired\, as well as family members\, are welcome to join us each month to remember and pray for our fallen heroes who died in the line of duty. \nMass will be celebrated at 7pm. \nLOCATION\nSt. Matthew Church\n3000 Cottman Ave Phila\, PA 19149\n(Lower Church accessed by using the rear parking lot entrance) While this is a Catholic Mass\, all members of the PPD family\, friends\, and community are welcome. \nFor Further Information\, Please Contact:\nSgt. Michael Cerruti – 215-802-1972
URL:https://fop5.org/evnt/monthly-mass-schedule-for-michael-the-archangel-ministry-program/2025-08-20/
LOCATION:St. Matthew Church\, 3000 Cottman Ave\, Philadelphia\, PA\, 19149\, United States
ATTACH;FMTTYPE=image/jpeg:https://fop5.org/wp-content/uploads/2025/01/Image-4.jpg
END:VEVENT
BEGIN:VEVENT
DTSTART;TZID=America/New_York:20250824T090000
DTEND;TZID=America/New_York:20250824T170000
DTSTAMP:20260421T145519
CREATED:20250429T190150Z
LAST-MODIFIED:20250625T074955Z
UID:10000336-1756026000-1756054800@fop5.org
SUMMARY:18th Annual Philly’s Fallen Heroes Memorial Ride – August 24\, 2025
DESCRIPTION:🏍️ Date: Sunday\, August 24\, 2025 \nJoin us for the 18th Annual Philly’s Fallen Heroes Memorial Ride\, a powerful day of remembrance and unity honoring those we’ve lost in the line of duty. \n📍 Meet at: FOP Lodge 5 – 11630 Caroline Road\, Philadelphia\, PA🕘 Registration: 9:00 AM – 11:00 AM🛣️ Kickstands Up: 11:30 AM (Police-escorted ride to Keenan’s in North Wildwood\, NJ) \n🎉 Post-Ride Festivities at Keenan’s (1–5 PM): \n\n\nFood & drink specials \n\n\n50/50 drawing \n\n\nT-Shirts: $20 \n\n\n💵 Donation: $25 per person \nCome ride with us in tribute to our fallen heroes and show your support for their legacy. It’s all about the fallen—always.
URL:https://fop5.org/evnt/18th-annual-phillys-fallen-heroes-memorial-ride-june-8-2025/
LOCATION:FOP Lodge 5\, 11630 Caroline Rd\, Philadelphia\, PA\, United States
CATEGORIES:Event
ATTACH;FMTTYPE=image/jpeg:https://fop5.org/wp-content/uploads/2025/04/IMG_2040.jpeg
END:VEVENT
END:VCALENDAR