BEGIN:VCALENDAR
VERSION:2.0
PRODID:-//FOP LODGE 5 - ECPv6.15.20//NONSGML v1.0//EN
CALSCALE:GREGORIAN
METHOD:PUBLISH
X-WR-CALNAME:FOP LODGE 5
X-ORIGINAL-URL:https://fop5.org
X-WR-CALDESC:Events for FOP LODGE 5
REFRESH-INTERVAL;VALUE=DURATION:PT1H
X-Robots-Tag:noindex
X-PUBLISHED-TTL:PT1H
BEGIN:VTIMEZONE
TZID:America/New_York
BEGIN:DAYLIGHT
TZOFFSETFROM:-0500
TZOFFSETTO:-0400
TZNAME:EDT
DTSTART:20240310T070000
END:DAYLIGHT
BEGIN:STANDARD
TZOFFSETFROM:-0400
TZOFFSETTO:-0500
TZNAME:EST
DTSTART:20241103T060000
END:STANDARD
BEGIN:DAYLIGHT
TZOFFSETFROM:-0500
TZOFFSETTO:-0400
TZNAME:EDT
DTSTART:20250309T070000
END:DAYLIGHT
BEGIN:STANDARD
TZOFFSETFROM:-0400
TZOFFSETTO:-0500
TZNAME:EST
DTSTART:20251102T060000
END:STANDARD
BEGIN:DAYLIGHT
TZOFFSETFROM:-0500
TZOFFSETTO:-0400
TZNAME:EDT
DTSTART:20260308T070000
END:DAYLIGHT
BEGIN:STANDARD
TZOFFSETFROM:-0400
TZOFFSETTO:-0500
TZNAME:EST
DTSTART:20261101T060000
END:STANDARD
END:VTIMEZONE
BEGIN:VEVENT
DTSTART;TZID=America/New_York:20251206T083000
DTEND;TZID=America/New_York:20251206T103000
DTSTAMP:20260421T074311
CREATED:20251124T120017Z
LAST-MODIFIED:20251125T161145Z
UID:10000872-1765009800-1765017000@fop5.org
SUMMARY:Breakfast with Santa
DESCRIPTION:*Registration is now full. \nJoin us for Breakfast with Santa on Saturday\, December 6\, 2025\, with one seating available (8:30 AM–10:30 AM)\, or on Sunday\, December 7\, 2025\, with two seatings available (8:30 AM–10:30 AM or 11:00 AM–1:00 PM). This event is exclusively for active and retired Philadelphia Police Officers and Deputy Sheriffs in good standing with FOP Lodge #5. Please remember to bring an unwrapped toy for our Toy Drive. For any questions\, contact Samantha at 215-629-3602 or shawthorn@fop5.org.
URL:https://fop5.org/evnt/breakfast-with-santa/
LOCATION:FOP Lodge 5\, 11630 Caroline Rd\, Philadelphia\, PA\, United States
ATTACH;FMTTYPE=image/png:https://fop5.org/wp-content/uploads/2025/11/Breakfast-with-Santa-2.png
END:VEVENT
BEGIN:VEVENT
DTSTART;TZID=America/New_York:20251209T180000
DTEND;TZID=America/New_York:20251209T200000
DTSTAMP:20260421T074311
CREATED:20250105T122428Z
LAST-MODIFIED:20251106T172335Z
UID:10000450-1765303200-1765310400@fop5.org
SUMMARY:General Membership FOP Meeting
DESCRIPTION:Held on the second Tuesday of month at 6:00 pm
URL:https://fop5.org/evnt/general-membership-fop-meeting/2025-12-09/
LOCATION:FOP Lodge 5\, 11630 Caroline Rd\, Philadelphia\, PA\, United States
END:VEVENT
BEGIN:VEVENT
DTSTART;TZID=America/New_York:20251209T180000
DTEND;TZID=America/New_York:20251209T200000
DTSTAMP:20260421T074311
CREATED:20251106T163646Z
LAST-MODIFIED:20251106T164509Z
UID:10000367-1765303200-1765310400@fop5.org
SUMMARY:Eat\, Drink\, & Get Your Gifts Wrapped!
DESCRIPTION:Complimentary Gift Wrapping! \nEnjoy free gift wrapping provided by members of the FOP Lodge 5 Auxiliary.Relax with food and drinks in the 7C Lounge while your gifts are wrapped\, the perfect way to unwind during the holiday season! \nWhen: December 9\, 11\, 15 & 17\, 2025\, from 6:00 PM to 8:00 PM.
URL:https://fop5.org/evnt/eat-drink-get-your-gifts-wrapped/2025-12-09/
LOCATION:7C Lounge\, 11630 Caroline Road\, Philadelphia\, PA\, 19154\, United States
ATTACH;FMTTYPE=image/jpeg:https://fop5.org/wp-content/uploads/2025/11/Copy-of-Copy-of-Eat-Drink-Get-Your-Gifts-Wrapped-1.jpg
END:VEVENT
BEGIN:VEVENT
DTSTART;TZID=America/New_York:20251211T180000
DTEND;TZID=America/New_York:20251211T200000
DTSTAMP:20260421T074311
CREATED:20251106T163646Z
LAST-MODIFIED:20251106T164509Z
UID:10000368-1765476000-1765483200@fop5.org
SUMMARY:Eat\, Drink\, & Get Your Gifts Wrapped!
DESCRIPTION:Complimentary Gift Wrapping! \nEnjoy free gift wrapping provided by members of the FOP Lodge 5 Auxiliary.Relax with food and drinks in the 7C Lounge while your gifts are wrapped\, the perfect way to unwind during the holiday season! \nWhen: December 9\, 11\, 15 & 17\, 2025\, from 6:00 PM to 8:00 PM.
URL:https://fop5.org/evnt/eat-drink-get-your-gifts-wrapped/2025-12-11/
LOCATION:7C Lounge\, 11630 Caroline Road\, Philadelphia\, PA\, 19154\, United States
ATTACH;FMTTYPE=image/jpeg:https://fop5.org/wp-content/uploads/2025/11/Copy-of-Copy-of-Eat-Drink-Get-Your-Gifts-Wrapped-1.jpg
END:VEVENT
BEGIN:VEVENT
DTSTART;TZID=America/New_York:20251212T160000
DTEND;TZID=America/New_York:20251212T210000
DTSTAMP:20260421T074311
CREATED:20251120T143438Z
LAST-MODIFIED:20251208T183358Z
UID:10000888-1765555200-1765573200@fop5.org
SUMMARY:6th Annual Andy Chan Holiday Block Party
DESCRIPTION:Honor the Fallen. Support the Survivors \n​Come on out and celebrate the season with us on Friday\, December 12th at Craft Hall (901 N. Delaware Ave.\, Phila.\, PA) from 4 – 9 PM.  The event features live music\, raffles\, special guests\, and more! All proceeds go directly to the family of Philadelphia Highway Patrolman Andy Chan and other families of fallen or critically injured first responders: \n\nDet. Mark Baker\, Northern York County Regional Police Department\, EOW 9/17/2025\nSgt. Detective Cody Becker\, Northern York County Regional Police Department\, EOW 9/17/2025\nOfc. Andrew Duarte\, West York Borough Police Department\, EOW 2/22/2025\nDet. Isaiah Emenheiser\, Northern York County Regional Police Department\, EOW 9/17/2025\nSgt. Ryan Mundrick\, Philadelphia Police Department\, EOW 5/7/2025\nOfc. Jefferson Rivera\, Atlantic City Police Department\, EOW 11/3/2024\nOfc. Arthur Scena IV\, Phoenixville Police Department\, EOW 10/27/2024\nOfc. Kevin Warg\, SEPTA Transit Police\, injured in 2025\nFirefighter Tyler Weidner\, City of Easton Fire Department\, EOW 9/4/2025\nSgt. Detective Eric Wise\, Atlantic County Prosecutor’s Office\, EOW 2/13/2025
URL:https://fop5.org/evnt/6th-annual-andy-chan-holiday-block-party/
LOCATION:Craft Hall\, 901 N. Delaware Ave\, Philadelphia\, PA\, 19123\, United States
ATTACH;FMTTYPE=image/jpeg:https://fop5.org/wp-content/uploads/2025/11/558772613_1204284721727528_1946100784396579429_n.jpg
END:VEVENT
BEGIN:VEVENT
DTSTART;TZID=America/New_York:20251215T180000
DTEND;TZID=America/New_York:20251215T200000
DTSTAMP:20260421T074311
CREATED:20251106T163646Z
LAST-MODIFIED:20251106T164509Z
UID:10000369-1765821600-1765828800@fop5.org
SUMMARY:Eat\, Drink\, & Get Your Gifts Wrapped!
DESCRIPTION:Complimentary Gift Wrapping! \nEnjoy free gift wrapping provided by members of the FOP Lodge 5 Auxiliary.Relax with food and drinks in the 7C Lounge while your gifts are wrapped\, the perfect way to unwind during the holiday season! \nWhen: December 9\, 11\, 15 & 17\, 2025\, from 6:00 PM to 8:00 PM.
URL:https://fop5.org/evnt/eat-drink-get-your-gifts-wrapped/2025-12-15/
LOCATION:7C Lounge\, 11630 Caroline Road\, Philadelphia\, PA\, 19154\, United States
ATTACH;FMTTYPE=image/jpeg:https://fop5.org/wp-content/uploads/2025/11/Copy-of-Copy-of-Eat-Drink-Get-Your-Gifts-Wrapped-1.jpg
END:VEVENT
BEGIN:VEVENT
DTSTART;TZID=America/New_York:20251217T180000
DTEND;TZID=America/New_York:20251217T200000
DTSTAMP:20260421T074311
CREATED:20251106T163646Z
LAST-MODIFIED:20251106T164509Z
UID:10000370-1765994400-1766001600@fop5.org
SUMMARY:Eat\, Drink\, & Get Your Gifts Wrapped!
DESCRIPTION:Complimentary Gift Wrapping! \nEnjoy free gift wrapping provided by members of the FOP Lodge 5 Auxiliary.Relax with food and drinks in the 7C Lounge while your gifts are wrapped\, the perfect way to unwind during the holiday season! \nWhen: December 9\, 11\, 15 & 17\, 2025\, from 6:00 PM to 8:00 PM.
URL:https://fop5.org/evnt/eat-drink-get-your-gifts-wrapped/2025-12-17/
LOCATION:7C Lounge\, 11630 Caroline Road\, Philadelphia\, PA\, 19154\, United States
ATTACH;FMTTYPE=image/jpeg:https://fop5.org/wp-content/uploads/2025/11/Copy-of-Copy-of-Eat-Drink-Get-Your-Gifts-Wrapped-1.jpg
END:VEVENT
BEGIN:VEVENT
DTSTART;TZID=America/New_York:20251217T180000
DTEND;TZID=America/New_York:20251217T220000
DTSTAMP:20260421T074311
CREATED:20251120T185245Z
LAST-MODIFIED:20251120T185245Z
UID:10000889-1765994400-1766008800@fop5.org
SUMMARY:Lt. Brian McBride Retirement Party
DESCRIPTION:For tickets please contact: \n\nChris McCue – 267.688.8837\nMatt Domenic – 215.990.2604\nJohn McLaughlin – 267.307.0258
URL:https://fop5.org/evnt/lt-brian-mcbride-retirement-party/
LOCATION:FOP Lodge 5\, 11630 Caroline Rd\, Philadelphia\, PA\, United States
ATTACH;FMTTYPE=image/jpeg:https://fop5.org/wp-content/uploads/2025/11/583753675_10239896444892894_3916447133067763903_n.jpg
END:VEVENT
BEGIN:VEVENT
DTSTART;TZID=America/New_York:20251217T190000
DTEND;TZID=America/New_York:20251217T200000
DTSTAMP:20260421T074311
CREATED:20251120T142341Z
LAST-MODIFIED:20251120T142514Z
UID:10000875-1765998000-1766001600@fop5.org
SUMMARY:Michael the Archangel Ministry Program Fallen Heroes Mass
DESCRIPTION:Active and retired members of the Fraternal Order of Police\, Philadelphia Lodge #5\, along with their families\, are welcome to join us each month as we gather to remember and pray for our Fallen Heroes who gave their lives in the line of duty.
URL:https://fop5.org/evnt/michael-the-archangel-ministry-program-fallen-heroes-mass/2025-12-17/
LOCATION:St. Matthew Church\, 3000 Cottman Ave\, Philadelphia\, PA\, 19149\, United States
ATTACH;FMTTYPE=image/png:https://fop5.org/wp-content/uploads/2025/11/MICHAEL-THE-ARCHANGEL-MINISTRY-PROGRAM-2.png
END:VEVENT
END:VCALENDAR