BEGIN:VCALENDAR
VERSION:2.0
PRODID:-//FOP LODGE 5 - ECPv6.15.20//NONSGML v1.0//EN
CALSCALE:GREGORIAN
METHOD:PUBLISH
X-WR-CALNAME:FOP LODGE 5
X-ORIGINAL-URL:https://fop5.org
X-WR-CALDESC:Events for FOP LODGE 5
REFRESH-INTERVAL;VALUE=DURATION:PT1H
X-Robots-Tag:noindex
X-PUBLISHED-TTL:PT1H
BEGIN:VTIMEZONE
TZID:America/New_York
BEGIN:DAYLIGHT
TZOFFSETFROM:-0500
TZOFFSETTO:-0400
TZNAME:EDT
DTSTART:20250309T070000
END:DAYLIGHT
BEGIN:STANDARD
TZOFFSETFROM:-0400
TZOFFSETTO:-0500
TZNAME:EST
DTSTART:20251102T060000
END:STANDARD
BEGIN:DAYLIGHT
TZOFFSETFROM:-0500
TZOFFSETTO:-0400
TZNAME:EDT
DTSTART:20260308T070000
END:DAYLIGHT
BEGIN:STANDARD
TZOFFSETFROM:-0400
TZOFFSETTO:-0500
TZNAME:EST
DTSTART:20261101T060000
END:STANDARD
BEGIN:DAYLIGHT
TZOFFSETFROM:-0500
TZOFFSETTO:-0400
TZNAME:EDT
DTSTART:20270314T070000
END:DAYLIGHT
BEGIN:STANDARD
TZOFFSETFROM:-0400
TZOFFSETTO:-0500
TZNAME:EST
DTSTART:20271107T060000
END:STANDARD
END:VTIMEZONE
BEGIN:VEVENT
DTSTART;VALUE=DATE:20260109
DTEND;VALUE=DATE:20260110
DTSTAMP:20260421T055827
CREATED:20260107T185337Z
LAST-MODIFIED:20260107T185337Z
UID:10000893-1767916800-1768003199@fop5.org
SUMMARY:Law Enforcement Appreciation Day
DESCRIPTION:Join us January 9th in 7C Lounge for Law Enforcement Appreciation Day with all-day food & drink specials!
URL:https://fop5.org/evnt/law-enforcement-appreciation-day/
LOCATION:7C Lounge\, 11630 Caroline Road\, Philadelphia\, PA\, 19154\, United States
ATTACH;FMTTYPE=image/jpeg:https://fop5.org/wp-content/uploads/2026/01/612641205_1306657578156671_5037200269567378687_n.jpg
END:VEVENT
BEGIN:VEVENT
DTSTART;TZID=America/New_York:20260113T180000
DTEND;TZID=America/New_York:20260113T200000
DTSTAMP:20260421T055827
CREATED:20250105T122428Z
LAST-MODIFIED:20251106T172335Z
UID:10000451-1768327200-1768334400@fop5.org
SUMMARY:General Membership FOP Meeting
DESCRIPTION:Held on the second Tuesday of month at 6:00 pm
URL:https://fop5.org/evnt/general-membership-fop-meeting/2026-01-13/
LOCATION:FOP Lodge 5\, 11630 Caroline Rd\, Philadelphia\, PA\, United States
END:VEVENT
BEGIN:VEVENT
DTSTART;TZID=America/New_York:20260121T190000
DTEND;TZID=America/New_York:20260121T200000
DTSTAMP:20260421T055827
CREATED:20251120T142341Z
LAST-MODIFIED:20251120T142514Z
UID:10000876-1769022000-1769025600@fop5.org
SUMMARY:Michael the Archangel Ministry Program Fallen Heroes Mass
DESCRIPTION:Active and retired members of the Fraternal Order of Police\, Philadelphia Lodge #5\, along with their families\, are welcome to join us each month as we gather to remember and pray for our Fallen Heroes who gave their lives in the line of duty.
URL:https://fop5.org/evnt/michael-the-archangel-ministry-program-fallen-heroes-mass/2026-01-21/
LOCATION:St. Matthew Church\, 3000 Cottman Ave\, Philadelphia\, PA\, 19149\, United States
ATTACH;FMTTYPE=image/png:https://fop5.org/wp-content/uploads/2025/11/MICHAEL-THE-ARCHANGEL-MINISTRY-PROGRAM-2.png
END:VEVENT
BEGIN:VEVENT
DTSTART;TZID=America/New_York:20260122T080000
DTEND;TZID=America/New_York:20260122T180000
DTSTAMP:20260421T055827
CREATED:20251208T184252Z
LAST-MODIFIED:20251208T184252Z
UID:10000890-1769068800-1769104800@fop5.org
SUMMARY:Michael's Brigade Blood Drive
DESCRIPTION:The next Michael’s Brigade Blood Drive\, in Memory of Father Steven Wetzel\, is scheduled for Thursday\, January 22nd!\nSign up here:\nhttps://www.redcrossblood.org/give.html/find-drive\nand enter sponsor keyword “MichaelsBrigade”
URL:https://fop5.org/evnt/michaels-brigade-blood-drive-3/
LOCATION:MGL Room\, 11630 Caroline Road\, Philadelphia\, PA\, 19154\, United States
ATTACH;FMTTYPE=image/png:https://fop5.org/wp-content/uploads/2025/12/Blood-Drive-Poster-1.png
END:VEVENT
BEGIN:VEVENT
DTSTART;TZID=America/New_York:20260122T200000
DTEND;TZID=America/New_York:20260122T200000
DTSTAMP:20260421T055827
CREATED:20260115T144042Z
LAST-MODIFIED:20260115T144246Z
UID:10000894-1769112000-1769112000@fop5.org
SUMMARY:Jam Night at the FOP
DESCRIPTION:For more information please call: 215-763-0490 \n 
URL:https://fop5.org/evnt/jam-night-at-the-fop/
LOCATION:MGL Room\, 11630 Caroline Road\, Philadelphia\, PA\, 19154\, United States
CATEGORIES:Event
ATTACH;FMTTYPE=image/jpeg:https://fop5.org/wp-content/uploads/2026/01/617414647_1312085990947163_3186356907283373645_n.jpg
END:VEVENT
BEGIN:VEVENT
DTSTART;TZID=America/New_York:20260127T180000
DTEND;TZID=America/New_York:20260127T200000
DTSTAMP:20260421T055827
CREATED:20251216T123444Z
LAST-MODIFIED:20251216T123445Z
UID:10000813-1769536800-1769544000@fop5.org
SUMMARY:FOP / BOD meetings
DESCRIPTION:Held on the fourth Tuesday of month at 6:00 pm
URL:https://fop5.org/evnt/fop-bod-meetings-3-2/2026-01-27/
LOCATION:FOP Lodge 5\, 11630 Caroline Rd\, Philadelphia\, PA\, United States
END:VEVENT
END:VCALENDAR